BEGIN:VCALENDAR
VERSION:2.0
PRODID:-//Morena Ovest - ECPv6.15.16//NONSGML v1.0//EN
CALSCALE:GREGORIAN
METHOD:PUBLISH
X-ORIGINAL-URL:https://morenaovest.it
X-WR-CALDESC:Eventi per Morena Ovest
REFRESH-INTERVAL;VALUE=DURATION:PT1H
X-Robots-Tag:noindex
X-PUBLISHED-TTL:PT1H
BEGIN:VTIMEZONE
TZID:Europe/Rome
BEGIN:DAYLIGHT
TZOFFSETFROM:+0100
TZOFFSETTO:+0200
TZNAME:CEST
DTSTART:20240331T010000
END:DAYLIGHT
BEGIN:STANDARD
TZOFFSETFROM:+0200
TZOFFSETTO:+0100
TZNAME:CET
DTSTART:20241027T010000
END:STANDARD
BEGIN:DAYLIGHT
TZOFFSETFROM:+0100
TZOFFSETTO:+0200
TZNAME:CEST
DTSTART:20250330T010000
END:DAYLIGHT
BEGIN:STANDARD
TZOFFSETFROM:+0200
TZOFFSETTO:+0100
TZNAME:CET
DTSTART:20251026T010000
END:STANDARD
BEGIN:DAYLIGHT
TZOFFSETFROM:+0100
TZOFFSETTO:+0200
TZNAME:CEST
DTSTART:20260329T010000
END:DAYLIGHT
BEGIN:STANDARD
TZOFFSETFROM:+0200
TZOFFSETTO:+0100
TZNAME:CET
DTSTART:20261025T010000
END:STANDARD
END:VTIMEZONE
BEGIN:VEVENT
DTSTART;TZID=Europe/Rome:20251025T153000
DTEND;TZID=Europe/Rome:20251025T173000
DTSTAMP:20260423T044649
CREATED:20250410T130833Z
LAST-MODIFIED:20251027T105543Z
UID:2211-1761406200-1761413400@morenaovest.it
SUMMARY:Dipinti e Naturalia nelle sale del Castello di Agliè
DESCRIPTION:La rassegna Arte e naturalia deriva dalla prima edizione del 2024 di “Animali e naturalia”\, tenutasi presso il Castello di Agliè in collaborazione con l’APS Vivere i Parchi\, e consiste in un’esperienza di visita innovativa\, nella quale si è parlato di animali a partire dai dipinti e dagli oggetti presenti in alcune sale del Castello\, coniugando nozioni scientifiche sulla fauna e sull’ambiente con aneddoti e leggende e con l’aggiunta di esperienze multisensoriali. \nAlla ricerca della natura espressa nell’arte. Fra quadri\, affreschi\, collezioni\, cucine e giardini si nascondono aneddoti di quotidiana convivenza tra arte\, scienze naturali e storia. Prima edizione per il pubblico di una visita al Castello diversa dal solito\, accompagnati dalle guide naturalistiche dell’Associazione Vivere i Parchi\, che vi parleranno di scienza ma anche di antiche credenze\, vi racconteranno aneddoti curiosi sugli animali e vi faranno vivere immersioni sensoriali nella natura\, stimolando vista\, udito e tatto! \nPrezzo della visita per persona Comprensivo del biglietto di ingresso al Castello\, fino ad esaurimento posti: \n\nBambini fino a 5 anni gratuito\ndai 6 ai 18 anni 5 euro\nINTERO 15 euro\nridotto 10 euro\n\nPer informazioni e prenotazioni: +39 345 779 6413 (Vivere i Parchi) | vivereiparchi@gmail.com
URL:https://morenaovest.it/event/arte-e-naturalia-2/
LOCATION:Castello di Agliè\, Piazza Castello\, 2\, Agliè\, TO\, 10011\, Italy
CATEGORIES:Arte e naturalia,Cultura,Dipinti
ATTACH;FMTTYPE=image/jpeg:https://morenaovest.it/wp-content/uploads/2025/03/Cover-eenti-sitodipinti.jpg
END:VEVENT
BEGIN:VEVENT
DTSTART;TZID=Europe/Rome:20250726T103000
DTEND;TZID=Europe/Rome:20250726T123000
DTSTAMP:20260423T044649
CREATED:20250311T101225Z
LAST-MODIFIED:20250410T130559Z
UID:1722-1753525800-1753533000@morenaovest.it
SUMMARY:Dipinti e Naturalia nelle sale del Castello di Agliè
DESCRIPTION:La rassegna Arte e naturalia deriva dalla prima edizione del 2024 di “Animali e naturalia”\, tenutasi presso il Castello di Agliè in collaborazione con l’APS Vivere i Parchi\, e consiste in un’esperienza di visita innovativa\, nella quale si è parlato di animali a partire dai dipinti e dagli oggetti presenti in alcune sale del Castello\, coniugando nozioni scientifiche sulla fauna e sull’ambiente con aneddoti e leggende e con l’aggiunta di esperienze multisensoriali. \nAlla ricerca della natura espressa nell’arte. Fra quadri\, affreschi\, collezioni\, cucine e giardini si nascondono aneddoti di quotidiana convivenza tra arte\, scienze naturali e storia. Prima edizione per il pubblico di una visita al Castello diversa dal solito\, accompagnati dalle guide naturalistiche dell’Associazione Vivere i Parchi\, che vi parleranno di scienza ma anche di antiche credenze\, vi racconteranno aneddoti curiosi sugli animali e vi faranno vivere immersioni sensoriali nella natura\, stimolando vista\, udito e tatto! \nPrezzo della visita per persona Comprensivo del biglietto di ingresso al Castello\, fino ad esaurimento posti \nBambini fino a 5 anni gratuito\ndai 6 ai 18 anni 5 euro\nINTERO 15 euro\nridotto 10 euro \nPer informazioni e prenotazioni\n345 779 6413 (Vivere i Parchi)\nvivereiparchi@gmail.com
URL:https://morenaovest.it/event/arte-e-naturalia/
LOCATION:Castello di Agliè\, Piazza Castello\, 2\, Agliè\, TO\, 10011\, Italy
CATEGORIES:Arte e naturalia,Cultura,Dipinti
ATTACH;FMTTYPE=image/jpeg:https://morenaovest.it/wp-content/uploads/2025/03/Cover-eenti-sitodipinti.jpg
END:VEVENT
END:VCALENDAR