BEGIN:VCALENDAR
VERSION:2.0
PRODID:-//Morena Ovest - ECPv6.15.16//NONSGML v1.0//EN
CALSCALE:GREGORIAN
METHOD:PUBLISH
X-WR-CALNAME:Morena Ovest
X-ORIGINAL-URL:https://morenaovest.it
X-WR-CALDESC:Eventi per Morena Ovest
REFRESH-INTERVAL;VALUE=DURATION:PT1H
X-Robots-Tag:noindex
X-PUBLISHED-TTL:PT1H
BEGIN:VTIMEZONE
TZID:Europe/Rome
BEGIN:DAYLIGHT
TZOFFSETFROM:+0100
TZOFFSETTO:+0200
TZNAME:CEST
DTSTART:20250330T010000
END:DAYLIGHT
BEGIN:STANDARD
TZOFFSETFROM:+0200
TZOFFSETTO:+0100
TZNAME:CET
DTSTART:20251026T010000
END:STANDARD
BEGIN:DAYLIGHT
TZOFFSETFROM:+0100
TZOFFSETTO:+0200
TZNAME:CEST
DTSTART:20260329T010000
END:DAYLIGHT
BEGIN:STANDARD
TZOFFSETFROM:+0200
TZOFFSETTO:+0100
TZNAME:CET
DTSTART:20261025T010000
END:STANDARD
BEGIN:DAYLIGHT
TZOFFSETFROM:+0100
TZOFFSETTO:+0200
TZNAME:CEST
DTSTART:20270328T010000
END:DAYLIGHT
BEGIN:STANDARD
TZOFFSETFROM:+0200
TZOFFSETTO:+0100
TZNAME:CET
DTSTART:20271031T010000
END:STANDARD
END:VTIMEZONE
BEGIN:VEVENT
DTSTART;TZID=Europe/Rome:20260711T163000
DTEND;TZID=Europe/Rome:20260711T183000
DTSTAMP:20260421T190813
CREATED:20260304T095208Z
LAST-MODIFIED:20260414T102703Z
UID:4001-1783787400-1783794600@morenaovest.it
SUMMARY:Sapori e naturalia
DESCRIPTION:Il Castello di Agliè apre i suoi spazi alla rassegna “Arte e Naturalia“. Un progetto\, ideato e condotto dalle guide di Vivere i Parchi aps\, promosso dalle Residenze Reali Sabaude e dall’accordo territoriale Morena Ovest. Una proposta che intreccia sapientemente nozioni scientifiche su flora\, fauna e ambiente con le vicende storiche\, gli aneddoti e le leggende del nostro territorio. \n\nL’evento: Sapori e Naturalia \n\nCon questo appuntamento\, l’indagine sulle scienze naturali si sposta tra le antiche dispense delle cucine del Castello. La visita ci guiderà alla scoperta dello stretto legame tra l’arte gastronomica e le storiche tradizioni legate all’agricoltura\, all’allevamento e alla caccia locali. Un viaggio affascinante e immersivo per comprendere in che modo la selezione naturale e quella artificiale abbiano dato forma alle antiche ricette del passato. \n\nInformazioni operative\n\n\n🗓 11 luglio\n⏰ orario di ritrovo in biglietteria 15 minuti prima dell’inizio della visita\, prevista per le 16.30\n📍 Castello di Agliè\n⏱️ Durata: circa 2 ore\n🎟️ Costo: 15€ (ridotto a 10€\, dai 6 ai 18 anni a 5€\, e gratuito per gli under 5)\n📲 Prenotazioni: 345 7796413 | vivereiparchi@gmail.com \n  \nUn momento dedicato alla condivisione e alla memoria materiale\, per guardare alle nostre tradizioni con consapevolezza e curiosità ✨
URL:https://morenaovest.it/event/sapori-e-naturalia-11-7/
LOCATION:Castello di Agliè\, Piazza Castello\, 2\, Agliè\, TO\, 10011\, Italy
CATEGORIES:Arte e naturalia,Sapori
ATTACH;FMTTYPE=image/jpeg:https://morenaovest.it/wp-content/uploads/2026/03/11-07_sapori_1200x630-1.jpg
END:VEVENT
BEGIN:VEVENT
DTSTART;VALUE=DATE:20260926
DTEND;VALUE=DATE:20260927
DTSTAMP:20260421T190813
CREATED:20260304T095539Z
LAST-MODIFIED:20260414T103246Z
UID:4009-1790380800-1790467199@morenaovest.it
SUMMARY:Giornata Arte e Naturalia
DESCRIPTION:Il Castello di Agliè apre i suoi spazi alla rassegna “Arte e Naturalia“. Un progetto\, ideato e condotto dalle guide di Vivere i Parchi\, promosso dalle Residenze Reali Sabaude e dall’accordo territoriale Morena Ovest. Una proposta che intreccia sapientemente nozioni scientifiche su flora\, fauna e ambiente con le vicende storiche\, gli aneddoti e le leggende del nostro territorio. \n  \n\nL’evento: Giornata Arte e naturalia\n\nNella giornata del 26 settembre sono previsti due appuntamenti della rassegna\, uno al mattino e uno al pomeriggio. \nNello specifico\, alle 10.30 si terrà Dipinti e animalia\, un invito ad andare alla ricerca della fauna espressa nell’arte. Attraversando le affascinanti sale del Castello\, cercheremo di scorgere gli animali celati negli affreschi e negli stucchi storici. Un’esperienza immersiva che\, arricchita da giochi percettivi basati sull’udito e sull’olfatto\, ci permetterà di indagare le infinite tracce della fauna del passato e il suo profondo rapporto con gli esseri umani. \nAlle 14.30\, invece\, si terrà Sapori e naturalia\, che sposterà l’indagine sulle scienze naturali tra le antiche dispense delle cucine del Castello. La visita ci guiderà alla scoperta dello stretto legame tra l’arte gastronomica e le storiche tradizioni legate all’agricoltura\, all’allevamento e alla caccia locali. Un viaggio affascinante e immersivo per comprendere in che modo la selezione naturale e quella artificiale abbiano dato forma alle antiche ricette del passato. \n  \n\nInformazioni operative\n\n🗓 26 settembre\n⏰ orario di ritrovo in biglietteria 15 minuti prima dell’inizio di ogni visita\, prevista per le 10.30 (Dipinti) e per le 14.30 (Sapori)\n📍 Castello di Agliè\n⏱️ Durata: circa 2 ore per ogni appuntamento\n🎟️ Costo singolo appuntamento: 15€ (ridotto a 10€\, dai 6 ai 18 anni a 5€\, e gratuito per gli under 5)\n📲 Prenotazioni: 345 7796413 | vivereiparchi@gmail.com \n  \nNon lasciarti sfuggire questa occasione di passare una giornata diversa dal solito\, all’insegna della cultura e della natura! 🍃
URL:https://morenaovest.it/event/arte-e-naturalia-26-9/
LOCATION:Castello di Agliè\, Piazza Castello\, 2\, Agliè\, TO\, 10011\, Italy
CATEGORIES:Arte e naturalia,Dipinti,Sapori
ATTACH;FMTTYPE=image/jpeg:https://morenaovest.it/wp-content/uploads/2026/03/26-09_dipinti_1200x630.jpg
END:VEVENT
END:VCALENDAR