BEGIN:VCALENDAR
VERSION:2.0
PRODID:-//Morena Ovest - ECPv6.15.16//NONSGML v1.0//EN
CALSCALE:GREGORIAN
METHOD:PUBLISH
X-WR-CALNAME:Morena Ovest
X-ORIGINAL-URL:https://morenaovest.it
X-WR-CALDESC:Eventi per Morena Ovest
REFRESH-INTERVAL;VALUE=DURATION:PT1H
X-Robots-Tag:noindex
X-PUBLISHED-TTL:PT1H
BEGIN:VTIMEZONE
TZID:Europe/Rome
BEGIN:DAYLIGHT
TZOFFSETFROM:+0100
TZOFFSETTO:+0200
TZNAME:CEST
DTSTART:20240331T010000
END:DAYLIGHT
BEGIN:STANDARD
TZOFFSETFROM:+0200
TZOFFSETTO:+0100
TZNAME:CET
DTSTART:20241027T010000
END:STANDARD
BEGIN:DAYLIGHT
TZOFFSETFROM:+0100
TZOFFSETTO:+0200
TZNAME:CEST
DTSTART:20250330T010000
END:DAYLIGHT
BEGIN:STANDARD
TZOFFSETFROM:+0200
TZOFFSETTO:+0100
TZNAME:CET
DTSTART:20251026T010000
END:STANDARD
BEGIN:DAYLIGHT
TZOFFSETFROM:+0100
TZOFFSETTO:+0200
TZNAME:CEST
DTSTART:20260329T010000
END:DAYLIGHT
BEGIN:STANDARD
TZOFFSETFROM:+0200
TZOFFSETTO:+0100
TZNAME:CET
DTSTART:20261025T010000
END:STANDARD
BEGIN:DAYLIGHT
TZOFFSETFROM:+0100
TZOFFSETTO:+0200
TZNAME:CEST
DTSTART:20270328T010000
END:DAYLIGHT
BEGIN:STANDARD
TZOFFSETFROM:+0200
TZOFFSETTO:+0100
TZNAME:CET
DTSTART:20271031T010000
END:STANDARD
END:VTIMEZONE
BEGIN:VEVENT
DTSTART;TZID=Europe/Rome:20260328T143000
DTEND;TZID=Europe/Rome:20260328T163000
DTSTAMP:20260422T062107
CREATED:20260226T154514Z
LAST-MODIFIED:20260304T094754Z
UID:3945-1774708200-1774715400@morenaovest.it
SUMMARY:Sinfonie e naturalia
DESCRIPTION:Il Castello di Agliè apre i suoi spazi alla rassegna “Arte e Naturalia“. Un progetto\, ideato e condotto dalle guide di Vivere i Parchi aps\, promosso dalle Residenze Reali Sabaude e dall’accordo territoriale Morena Ovest. Una proposta che intreccia sapientemente nozioni scientifiche su flora\, fauna e ambiente con le vicende storiche\, gli aneddoti e le leggende del nostro territorio. \n\nL’evento: Sinfonie e Naturalia \n\nQuesto appuntamento esplora la straordinaria biodiversità nascosta tra gli spartiti musicali – attraverso una piacevole passeggiata naturalistica\, condotta in collaborazione con Alice Fumero\, esperta musicologa dell’Associazione LeMus\, scopriremo le curiosità botaniche del Parco. Osserveremo da vicino come natura e musica si incontrino in armonia\, comprendendo come i suoni si vestano di biodiversità grazie allo stretto legame tra la composizione e l’osservazione del mondo. \n\nInformazioni operative\n\n\n🗓 28 marzo\n⏰ 14.30\n📍 Castello di Agliè\n⏱️ Durata: circa 2 ore\n🎟️ Costo: 15€ (ridotto a 10€\, dai 6 ai 18 anni a 5€\, e gratuito per gli under 5)\n📲 Prenotazioni: 345 7796413 | vivereiparchi@gmail.com \n  \nUn’occasione per camminare insieme tra la bellezza del nostro patrimonio\, riscoprendo le radici e la natura di un paesaggio che ci appartiene 🌳
URL:https://morenaovest.it/event/sinfonie-e-naturalia-28-3/
LOCATION:Castello di Agliè\, Piazza Castello\, 2\, Agliè\, TO\, 10011\, Italy
CATEGORIES:Arte e naturalia,Sinfonie
ATTACH;FMTTYPE=image/jpeg:https://morenaovest.it/wp-content/uploads/2026/02/28-03_sinfonie_1200x630.jpg
END:VEVENT
BEGIN:VEVENT
DTSTART;TZID=Europe/Rome:20250927T150000
DTEND;TZID=Europe/Rome:20250927T173000
DTSTAMP:20260422T062107
CREATED:20250410T142619Z
LAST-MODIFIED:20250410T142619Z
UID:2304-1758985200-1758994200@morenaovest.it
SUMMARY:Sinfonie e Naturalia tra i sentieri nel parco del Castello di Agliè
DESCRIPTION:La rassegna Arte e naturalia deriva dalla prima edizione del 2024 di “Animali e naturalia”\, tenutasi presso il Castello di Agliè in collaborazione con l’APS Vivere i Parchi\, e consiste in un’esperienza di visita innovativa\, nella quale si è parlato di animali a partire dai dipinti e dagli oggetti presenti in alcune sale del Castello\, coniugando nozioni scientifiche sulla fauna e sull’ambiente con aneddoti e leggende e con l’aggiunta di esperienze multisensoriali. \nAlla ricerca della natura espressa nell’arte. Tra antichi alberi\, tane e tracce si nascondono infiniti spartiti ispirati alla natura \nVisite naturalistiche nel parco del Castello in compagnia delle guide di Vivere i Parchi in collaborazione con Alice Fumero\, esperta musicologa\ndell’Associazione LeMus. Una passeggiata dedicata alle note della natura e al rapporto tra compositori\, animali e piante: la musica si veste di biodiversità grazie allo stretto legame degli spartiti con l’osservazione del mondo. \nPrezzo della visita per persona Comprensivo del biglietto di ingresso al Castello\, fino ad esaurimento posti \n\nBambini fino a 5 anni gratuito\ndai 6 ai 18 anni 5 euro\nINTERO 15 euro\nridotto 10 euro\n\nPer informazioni e prenotazioni\n345 779 6413 (Vivere i Parchi)\nvivereiparchi@gmail.com
URL:https://morenaovest.it/event/sinfonie-e-naturalia-27-09/
LOCATION:Castello di Agliè\, Piazza Castello\, 2\, Agliè\, TO\, 10011\, Italy
CATEGORIES:Arte e naturalia,Cultura,Sinfonie
ATTACH;FMTTYPE=image/jpeg:https://morenaovest.it/wp-content/uploads/2025/03/sinfonie.jpg
END:VEVENT
BEGIN:VEVENT
DTSTART;TZID=Europe/Rome:20250621T150000
DTEND;TZID=Europe/Rome:20250621T173000
DTSTAMP:20260422T062107
CREATED:20250410T142436Z
LAST-MODIFIED:20250603T143241Z
UID:2299-1750518000-1750527000@morenaovest.it
SUMMARY:Sinfonie e Naturalia tra i sentieri nel parco del Castello di Agliè
DESCRIPTION:La rassegna Arte e naturalia deriva dalla prima edizione del 2024 di “Animali e naturalia”\, tenutasi presso il Castello di Agliè in collaborazione con l’APS Vivere i Parchi\, e consiste in un’esperienza di visita innovativa\, nella quale si è parlato di animali a partire dai dipinti e dagli oggetti presenti in alcune sale del Castello\, coniugando nozioni scientifiche sulla fauna e sull’ambiente con aneddoti e leggende e con l’aggiunta di esperienze multisensoriali. \nAlla ricerca della natura espressa nell’arte. Tra antichi alberi\, tane e tracce si nascondono infiniti spartiti ispirati alla natura. Visite naturalistiche nel parco del Castello in compagnia delle guide di Vivere i Parchi in collaborazione con Alice Fumero\, esperta musicologa dell’Associazione LeMus. Una passeggiata dedicata alle note della natura e al rapporto tra compositori\, animali e piante: la musica si veste di biodiversità grazie allo stretto legame degli spartiti con l’osservazione del mondo. \nPrezzo della visita per persona Comprensivo del biglietto di ingresso al Castello\, fino ad esaurimento posti: \n\nBambini fino a 5 anni gratuito\ndai 6 ai 18 anni 5 euro\nINTERO 15 euro\nridotto 10 euro\n\nPer informazioni e prenotazioni: +39 345 779 6413 (Vivere i Parchi) | vivereiparchi@gmail.com
URL:https://morenaovest.it/event/sinfonie-e-naturalia-21-06/
LOCATION:Castello di Agliè\, Piazza Castello\, 2\, Agliè\, TO\, 10011\, Italy
CATEGORIES:Arte e naturalia,Cultura,Sinfonie
ATTACH;FMTTYPE=image/jpeg:https://morenaovest.it/wp-content/uploads/2025/03/sinfonie.jpg
END:VEVENT
END:VCALENDAR