BEGIN:VCALENDAR
VERSION:2.0
PRODID:-//Morena Ovest - ECPv6.15.16//NONSGML v1.0//EN
CALSCALE:GREGORIAN
METHOD:PUBLISH
X-WR-CALNAME:Morena Ovest
X-ORIGINAL-URL:https://morenaovest.it
X-WR-CALDESC:Eventi per Morena Ovest
REFRESH-INTERVAL;VALUE=DURATION:PT1H
X-Robots-Tag:noindex
X-PUBLISHED-TTL:PT1H
BEGIN:VTIMEZONE
TZID:Europe/Rome
BEGIN:DAYLIGHT
TZOFFSETFROM:+0100
TZOFFSETTO:+0200
TZNAME:CEST
DTSTART:20250330T010000
END:DAYLIGHT
BEGIN:STANDARD
TZOFFSETFROM:+0200
TZOFFSETTO:+0100
TZNAME:CET
DTSTART:20251026T010000
END:STANDARD
BEGIN:DAYLIGHT
TZOFFSETFROM:+0100
TZOFFSETTO:+0200
TZNAME:CEST
DTSTART:20260329T010000
END:DAYLIGHT
BEGIN:STANDARD
TZOFFSETFROM:+0200
TZOFFSETTO:+0100
TZNAME:CET
DTSTART:20261025T010000
END:STANDARD
BEGIN:DAYLIGHT
TZOFFSETFROM:+0100
TZOFFSETTO:+0200
TZNAME:CEST
DTSTART:20270328T010000
END:DAYLIGHT
BEGIN:STANDARD
TZOFFSETFROM:+0200
TZOFFSETTO:+0100
TZNAME:CET
DTSTART:20271031T010000
END:STANDARD
END:VTIMEZONE
BEGIN:VEVENT
DTSTART;TZID=Europe/Rome:20260606T143000
DTEND;TZID=Europe/Rome:20260606T163000
DTSTAMP:20260416T092416
CREATED:20260304T094714Z
LAST-MODIFIED:20260414T103133Z
UID:3989-1780756200-1780763400@morenaovest.it
SUMMARY:Giardini e naturalia
DESCRIPTION:Il Castello di Agliè apre i suoi spazi alla rassegna “Arte e Naturalia“. Un progetto\, ideato e condotto dalle guide di Vivere i Parchi aps\, promosso dalle Residenze Reali Sabaude e dall’accordo territoriale Morena Ovest. Una proposta che intreccia sapientemente nozioni scientifiche su flora\, fauna e ambiente con le vicende storiche\, gli aneddoti e le leggende del nostro territorio. \n\nL’evento: Giardini e Naturalia \n\nQuesto appuntamento ci accompagna in un percorso suggestivo tra arte e natura\, passeggiando lungo i sentieri dei giardini del Castello. Attraverso un’escursione naturalistica guidata\, andremo alla scoperta delle curiosità botaniche che popolano il giardino all’italiana e il romantico parco all’inglese. Esploreremo come la natura si incontri con l’arte nelle scelte compiute da chi\, nei secoli\, ha vissuto nella residenza e ne ha progettato gli spazi esterni. \n\nInformazioni operative\n\n\n🗓 6 giugno\n⏰ orario di ritrovo in biglietteria 15 minuti prima dell’inizio della visita\, prevista per le 14.30\n📍 Castello di Agliè\n⏱️ Durata: circa 2 ore\n🎟️ Costo: 15€ (ridotto a 10€\, dai 6 ai 18 anni a 5€\, e gratuito per gli under 5)\n📲 Prenotazioni: 345 7796413 | vivereiparchi@gmail.com \n  \nUn’occasione per camminare insieme tra la bellezza del nostro patrimonio\, riscoprendo le radici e la natura di un paesaggio che ci appartiene 🌳
URL:https://morenaovest.it/event/giardini-e-naturalia-6-6/
LOCATION:Castello di Agliè\, Piazza Castello\, 2\, Agliè\, TO\, 10011\, Italy
CATEGORIES:Arte e naturalia,Giardini
ATTACH;FMTTYPE=image/jpeg:https://morenaovest.it/wp-content/uploads/2026/03/06-06_giardini_1200x630.jpg
END:VEVENT
BEGIN:VEVENT
DTSTART;TZID=Europe/Rome:20260621T143000
DTEND;TZID=Europe/Rome:20260621T163000
DTSTAMP:20260416T092416
CREATED:20260304T094944Z
LAST-MODIFIED:20260414T103149Z
UID:3997-1782052200-1782059400@morenaovest.it
SUMMARY:Sinfonie e naturalia
DESCRIPTION:Il Castello di Agliè apre i suoi spazi alla rassegna “Arte e Naturalia“. Un progetto\, ideato e condotto dalle guide di Vivere i Parchi aps\, promosso dalle Residenze Reali Sabaude e dall’accordo territoriale Morena Ovest. Una proposta che intreccia sapientemente nozioni scientifiche su flora\, fauna e ambiente con le vicende storiche\, gli aneddoti e le leggende del nostro territorio. \n\nL’evento: Sinfonie e Naturalia \n\nQuesto appuntamento esplora la straordinaria biodiversità nascosta tra gli spartiti musicali – attraverso una piacevole passeggiata naturalistica\, condotta in collaborazione con Alice Fumero\, esperta musicologa dell’Associazione LeMus\, scopriremo le curiosità botaniche del Parco. Osserveremo da vicino come natura e musica si incontrino in armonia\, comprendendo come i suoni si vestano di biodiversità grazie allo stretto legame tra la composizione e l’osservazione del mondo. \n\nInformazioni operative\n\n\n🗓 21 giugno\n⏰ orario di ritrovo in biglietteria 15 minuti prima dell’inizio della visita\, prevista per le 14.30\n📍 Castello di Agliè\n⏱️ Durata: circa 2 ore\n🎟️ Costo: 15€ (ridotto a 10€\, dai 6 ai 18 anni a 5€\, e gratuito per gli under 5)\n📲 Prenotazioni: 345 7796413 | vivereiparchi@gmail.com \n  \nUn’occasione per camminare insieme tra la bellezza del nostro patrimonio\, riscoprendo le radici e la natura di un paesaggio che ci appartiene 🌳
URL:https://morenaovest.it/event/sinfonie-e-naturalia-21-6/
LOCATION:Castello di Agliè\, Piazza Castello\, 2\, Agliè\, TO\, 10011\, Italy
CATEGORIES:Arte e naturalia,Sinfonie
ATTACH;FMTTYPE=image/jpeg:https://morenaovest.it/wp-content/uploads/2026/03/21-06_sinfonie_1200x630.jpg
END:VEVENT
END:VCALENDAR